BEGIN:VCALENDAR
VERSION:2.0
PRODID:-//Portail InterLoire - ECPv6.15.18//NONSGML v1.0//EN
CALSCALE:GREGORIAN
METHOD:PUBLISH
X-WR-CALNAME:Portail InterLoire
X-ORIGINAL-URL:https://vinsdeloire.pro
X-WR-CALDESC:Évènements pour Portail InterLoire
REFRESH-INTERVAL;VALUE=DURATION:PT1H
X-Robots-Tag:noindex
X-PUBLISHED-TTL:PT1H
BEGIN:VTIMEZONE
TZID:Europe/Paris
BEGIN:DAYLIGHT
TZOFFSETFROM:+0100
TZOFFSETTO:+0200
TZNAME:CEST
DTSTART:20250330T010000
END:DAYLIGHT
BEGIN:STANDARD
TZOFFSETFROM:+0200
TZOFFSETTO:+0100
TZNAME:CET
DTSTART:20251026T010000
END:STANDARD
BEGIN:DAYLIGHT
TZOFFSETFROM:+0100
TZOFFSETTO:+0200
TZNAME:CEST
DTSTART:20260329T010000
END:DAYLIGHT
BEGIN:STANDARD
TZOFFSETFROM:+0200
TZOFFSETTO:+0100
TZNAME:CET
DTSTART:20261025T010000
END:STANDARD
BEGIN:DAYLIGHT
TZOFFSETFROM:+0100
TZOFFSETTO:+0200
TZNAME:CEST
DTSTART:20270328T010000
END:DAYLIGHT
BEGIN:STANDARD
TZOFFSETFROM:+0200
TZOFFSETTO:+0100
TZNAME:CET
DTSTART:20271031T010000
END:STANDARD
END:VTIMEZONE
BEGIN:VEVENT
DTSTART;VALUE=DATE:20260420
DTEND;VALUE=DATE:20260421
DTSTAMP:20260420T025044
CREATED:20260320T132620Z
LAST-MODIFIED:20260320T133350Z
UID:10000166-1776643200-1776729599@vinsdeloire.pro
SUMMARY:Allemagne - Webinaire Melon blanc
DESCRIPTION:Pour plus d’informations\, contacter Emma Fontaine : e.fontaine@vinsdeloire.fr
URL:https://vinsdeloire.pro/agenda-unique/allemagne-webinaire-melon-blanc/
LOCATION:Allemagne\, Allemagne
CATEGORIES:Actions de promotion,Actions de promotion Export,Allemagne,Aux vignerons négociants courtiers,Géographie International,Professionnels
END:VEVENT
BEGIN:VEVENT
DTSTART;VALUE=DATE:20260420
DTEND;VALUE=DATE:20260422
DTSTAMP:20260420T025044
CREATED:20260320T094422Z
LAST-MODIFIED:20260320T103721Z
UID:10000147-1776643200-1776815999@vinsdeloire.pro
SUMMARY:UK-Concours International Wine Challenge (IWC)
DESCRIPTION:Pour plus d’informations\, contacter  Emma Fontaine : e.fontaine@vinsdeloire.fr
URL:https://vinsdeloire.pro/agenda-unique/concours-international-wine-challenge-iwc/
LOCATION:Londres
CATEGORIES:Actions de promotion,Actions de promotion Export,Aux vignerons négociants courtiers,Géographie International,Professionnels,Royaume-Uni
END:VEVENT
BEGIN:VEVENT
DTSTART;VALUE=DATE:20260427
DTEND;VALUE=DATE:20260428
DTSTAMP:20260420T025044
CREATED:20260320T103310Z
LAST-MODIFIED:20260320T103310Z
UID:10000149-1777248000-1777334399@vinsdeloire.pro
SUMMARY:USA\, Boston - Masterclasses avec Guildsomm
DESCRIPTION:Pour plus d’informations\, contacter Emma Fontaine : e.fontaine@vinsdeloire.fr
URL:https://vinsdeloire.pro/agenda-unique/usa-boston-masterclasses-avec-guildsomm/
LOCATION:Boston\, USA
CATEGORIES:Actions de promotion,Actions de promotion Export,Géographie International,Professionnels,USA
END:VEVENT
BEGIN:VEVENT
DTSTART;VALUE=DATE:20260501
DTEND;VALUE=DATE:20260601
DTSTAMP:20260420T025044
CREATED:20260320T132827Z
LAST-MODIFIED:20260320T133259Z
UID:10000167-1777593600-1780271999@vinsdeloire.pro
SUMMARY:Allemagne - Partenariat Jacques'Wein Depot
DESCRIPTION:Pour plus d’informations\, contacter Emma Fontaine : e.fontaine@vinsdeloire.fr
URL:https://vinsdeloire.pro/agenda-unique/allemagne-partenariat-jacqueswein-depot/
LOCATION:Allemagne\, Allemagne
CATEGORIES:Actions de promotion,Actions de promotion Export,Allemagne,Aux vignerons négociants courtiers,Géographie International,Professionnels
END:VEVENT
BEGIN:VEVENT
DTSTART;VALUE=DATE:20260503
DTEND;VALUE=DATE:20260506
DTSTAMP:20260420T025044
CREATED:20260320T134150Z
LAST-MODIFIED:20260320T134150Z
UID:10000168-1777766400-1778025599@vinsdeloire.pro
SUMMARY:Belgique - Voyage de prescripteurs en Loire
DESCRIPTION:Pour plus d’informations\, contacter Emma Fontaine : e.fontaine@vinsdeloire.fr
URL:https://vinsdeloire.pro/agenda-unique/belgique-voyage-de-prescripteurs-en-loire/
LOCATION:Belgique\, Belgique
CATEGORIES:Actions de promotion,Actions de promotion Export,Aux vignerons négociants courtiers,Belgique,Géographie International,Professionnels
END:VEVENT
BEGIN:VEVENT
DTSTART;VALUE=DATE:20260504
DTEND;VALUE=DATE:20260505
DTSTAMP:20260420T025044
CREATED:20260320T104227Z
LAST-MODIFIED:20260320T104602Z
UID:10000150-1777852800-1777939199@vinsdeloire.pro
SUMMARY:USA\, San Francisco - Masterclasses avec Guildsomm
DESCRIPTION:Pour plus d’informations\, contacter Emma Fontaine : e.fontaine@vinsdeloire.fr
URL:https://vinsdeloire.pro/agenda-unique/usa-san-francisco-masterclasses-avec-guildsomm/
LOCATION:San Francisco
CATEGORIES:Actions de promotion,Actions de promotion Export,Aux vignerons négociants courtiers,Géographie International,Professionnels,USA
END:VEVENT
BEGIN:VEVENT
DTSTART;TZID=Europe/Paris:20260505T140000
DTEND;TZID=Europe/Paris:20260505T170000
DTSTAMP:20260420T025044
CREATED:20251205T104524Z
LAST-MODIFIED:20251205T104546Z
UID:10000114-1777989600-1778000400@vinsdeloire.pro
SUMMARY:Conseil d'Orientation Stratégique (COS)
DESCRIPTION:
URL:https://vinsdeloire.pro/agenda-unique/conseil-dorientation-strategique-cos-5-copy-copy-copy/
LOCATION:France\, vignoble de Loire\, France
CATEGORIES:Géographie France,Professionnels,réunions des élus,Réunions institutionnelles,Sur invitation
ATTACH;FMTTYPE=image/svg+xml:https://vinsdeloire.pro/wp-content/uploads/2024/01/INTERLOIRE-Logo-2024-CMJN.svg
END:VEVENT
BEGIN:VEVENT
DTSTART;VALUE=DATE:20260511
DTEND;VALUE=DATE:20260512
DTSTAMP:20260420T025044
CREATED:20260319T081509Z
LAST-MODIFIED:20260319T143014Z
UID:10000145-1778457600-1778543999@vinsdeloire.pro
SUMMARY:Concours Graines d’Agriculteurs – Les trophées de l’installation 2026
DESCRIPTION:Créé en 2011 et organisé depuis 2016 par Terres Innovantes\, le fonds de dotation des Jeunes Agriculteurs\, Graines d’Agriculteurs est le seul concours agricole pendant lequel le grand public peut voter pour participer à désigner les lauréats. \n  \nCe concours vise à encourager le sens de l’entrepreneuriat agricole\, la vision à long terme\, la démarche durable\, l’inventivité et l’innovation d’agricultrices et d’agriculteurs récemment installés. \n  \nChaque année\, la nouvelle édition de Graines d’Agriculteurs est lancée sur le Salon International de l’Agriculture. \n  \nCatégories de l’édition 2026 \nPour sa 16ème édition\, Graines d’Agriculteurs revient avec ses cinq catégories : agriculture durable\, territoires\, biodiversité\, diversification et installation. Ces cinq catégories valorisent l’agriculture dans sa diversité et sont autant d’opportunités pour les agricultrices et agriculteurs récemment installés de faire découvrir leurs projets pour l’avenir de leur métier. Découvrez-les et votez bientôt pour vos finalistes favoris. \n  \nLa 16ème édition est lancée et les candidatures sont ouvertes jusqu’au 11 mai. \n  \nPour plus d’informations sur le Concours Graines d’Agriculteurs 2026\, voici quelques liens utiles : \n\nPrésentation de l’édition 2026 du concours Graines d’Agriculteurs\nLien vers la page d’inscription\nLien vers les anciennes éditions du concours Graines d’Agriculteurs\nContact\n\n 
URL:https://vinsdeloire.pro/agenda-unique/concours-graines-dagriculteurs-les-trophees-de-linstallation-2026-inscription-avant-le-11-05/
CATEGORIES:Aux vignerons négociants courtiers,Concours,Géographie France,Professionnels,Technique
ATTACH;FMTTYPE=image/jpeg:https://vinsdeloire.pro/wp-content/uploads/2026/03/Capture.jpg
END:VEVENT
BEGIN:VEVENT
DTSTART;VALUE=DATE:20260511
DTEND;VALUE=DATE:20260512
DTSTAMP:20260420T025044
CREATED:20260320T104449Z
LAST-MODIFIED:20260320T104637Z
UID:10000151-1778457600-1778543999@vinsdeloire.pro
SUMMARY:USA\, Chicago\, Houston - Masterclasses avec Guildsomm
DESCRIPTION:Pour plus d’informations\, contacter Emma Fontaine : e.fontaine@vinsdeloire.fr
URL:https://vinsdeloire.pro/agenda-unique/usa-chicago-houston-masterclasses-avec-guildsomm/
CATEGORIES:Actions de promotion,Actions de promotion Export,Aux vignerons négociants courtiers,Géographie International,Professionnels,USA
END:VEVENT
BEGIN:VEVENT
DTSTART;VALUE=DATE:20260518
DTEND;VALUE=DATE:20260523
DTSTAMP:20260420T025044
CREATED:20260311T101241Z
LAST-MODIFIED:20260311T101241Z
UID:10000137-1779062400-1779494399@vinsdeloire.pro
SUMMARY:USA - Dégustation privée acheteurs vins effervescents
DESCRIPTION:Participez à la 1ère édition du Private Tasting Sparkling aux Etats-Unis en mai 2026.\nBusiness France organise pour la première fois un événement professionnels autour des vins effervescents français dans deux Etats secondaires des USA : Minneapolis et Raleigh. Les participants bénéficieront de retours garantis d’acheteurs qualifiés sur leur produit (prix\, positionnement\, packaging\, etc.) dans les deux États ciblés. \n  \nDédiée aux bulles\, cette opération vous permettra de présenter votre produit phare lors d’une dégustation exclusive regroupant une douzaine d’acheteurs américains majeurs de chaque ville Minneapolis et Raleigh. Après dégustation\, chaque acheteur nous remettra ses commentaires de dégustation et éventuels souhaits de référencement. L’acheteur sera convié à une dégustation guidée et les échantillons présentés seront accompagnés d’un livret de dégustation (Présentation du produit\, goût\, visuel\, accords et usages). Après dégustation\, chaque représentant de ces sociétés nous remettra ses commentaires de dégustation et éventuels souhaits d’échanges voire de référencement. \n  \nCible : Producteurs de vins effervescents français souhaitant développer l’export aux Etats-Unis. L’objectif est de regrouper lors de ce Private Tasting la diversité des bulles françaises.\nAfin de respecter une représentativité de l’offre française\, nous pourrons être amenés à faire une sélection parmi les candidatures. \n  \nPlanning prévisionnel : \n\nMars: Réception des fiches techniques\nAvril: Envoi des échantillons à Minneapolis et Raleigh\nMai: dégustation par les acheteurs sélectionnés\nJuin: Transmission des notes de dégustation et mise en relation si souhaitée par les décideurs.\n\n  \nCoût : 1 700 € HT / exposant / étiquette (hors envoi d’échantillons) \n  \nA noter: Les frais d’expédition des échantillons demeurent à la charge des participants. \n  \nContacts : \nReka SZMETAN\nreka.szmetan@businessfrance.fr\n+33 1 40 73 30 14 \n  \nPlus d’informations et inscriptions : E-Salon – Private Tasting Sparkling 2026 – Etats-Unis \n  \nCette information est relayée par InterLoire pour Business France. Les inscriptions se font auprès de Business France directement.
URL:https://vinsdeloire.pro/agenda-unique/usa-degustation-privee-acheteurs-vins-effervescents/
CATEGORIES:Actions de promotion,Actions de promotion Export,Aux vignerons négociants courtiers,Géographie International,Professionnels,USA
ATTACH;FMTTYPE=image/jpeg:https://vinsdeloire.pro/wp-content/uploads/2026/03/Bulles-USA_ChatGPT-Image-11-avr.-2025-15_07_32.jpeg
END:VEVENT
BEGIN:VEVENT
DTSTART;VALUE=DATE:20260518
DTEND;VALUE=DATE:20260519
DTSTAMP:20260420T025044
CREATED:20260320T104849Z
LAST-MODIFIED:20260320T104849Z
UID:10000152-1779062400-1779148799@vinsdeloire.pro
SUMMARY:USA\, NYC - Masterclasses avec Guildsomm
DESCRIPTION:Pour plus d’informations\, contacter Emma Fontaine : e.fontaine@vinsdeloire.fr
URL:https://vinsdeloire.pro/agenda-unique/usa-nyc-masterclasses-avec-guildsomm/
LOCATION:NYC\, USA
CATEGORIES:Actions de promotion,Actions de promotion Export,Géographie France,Professionnels,USA
END:VEVENT
BEGIN:VEVENT
DTSTART;TZID=Europe/Paris:20260521T080000
DTEND;TZID=Europe/Paris:20260521T170000
DTSTAMP:20260420T025044
CREATED:20251202T125419Z
LAST-MODIFIED:20251202T125419Z
UID:10000105-1779350400-1779382800@vinsdeloire.pro
SUMMARY:Commission Communication
DESCRIPTION:
URL:https://vinsdeloire.pro/agenda-unique/commission-communication-3/
CATEGORIES:Professionnels,réunions des élus,Réunions institutionnelles,Sur invitation
ATTACH;FMTTYPE=image/png:https://vinsdeloire.pro/wp-content/uploads/2025/06/Logo-Interloire-Rectangle.png
END:VEVENT
BEGIN:VEVENT
DTSTART;VALUE=DATE:20260525
DTEND;VALUE=DATE:20260526
DTSTAMP:20260420T025044
CREATED:20260320T131657Z
LAST-MODIFIED:20260320T142613Z
UID:10000160-1779667200-1779753599@vinsdeloire.pro
SUMMARY:JAPON\, Tokyo - partenariat JSA
DESCRIPTION:Pour plus d’informations\, contacter Sophie Grosman : s.grosman@vinsdeloire.fr
URL:https://vinsdeloire.pro/agenda-unique/japon-tokyo-partenariat-jsa/
LOCATION:Tokyo\, Japon
CATEGORIES:Actions de promotion,Actions de promotion Export,Aux vignerons négociants courtiers,Géographie International,Professionnels
END:VEVENT
BEGIN:VEVENT
DTSTART;VALUE=DATE:20260526
DTEND;VALUE=DATE:20260527
DTSTAMP:20260420T025044
CREATED:20251205T103916Z
LAST-MODIFIED:20251205T104058Z
UID:10000110-1779753600-1779839999@vinsdeloire.pro
SUMMARY:Assemblée Générale
DESCRIPTION:
URL:https://vinsdeloire.pro/agenda-unique/assemblee-generale-3-copy/
LOCATION:France\, vignoble de Loire\, France
CATEGORIES:Géographie France,Professionnels,réunions des élus,Réunions institutionnelles,Sur invitation
ATTACH;FMTTYPE=image/svg+xml:https://vinsdeloire.pro/wp-content/uploads/2024/01/INTERLOIRE-Logo-2024-CMJN.svg
END:VEVENT
BEGIN:VEVENT
DTSTART;VALUE=DATE:20260601
DTEND;VALUE=DATE:20260615
DTSTAMP:20260420T025044
CREATED:20260320T084652Z
LAST-MODIFIED:20260320T084652Z
UID:10000146-1780272000-1781481599@vinsdeloire.pro
SUMMARY:UK - Partenariat Waitrose
DESCRIPTION:Pour plus d’informations contacter Emma Fontaine : e.fontaine@vinsdeloire.fr
URL:https://vinsdeloire.pro/agenda-unique/uk-partenariat-waitrose/
LOCATION:Londres
CATEGORIES:Actions de promotion,Actions de promotion Export,Aux vignerons négociants courtiers,Géographie International,Grand public,Royaume-Uni
END:VEVENT
BEGIN:VEVENT
DTSTART;VALUE=DATE:20260602
DTEND;VALUE=DATE:20260603
DTSTAMP:20260420T025044
CREATED:20260312T133408Z
LAST-MODIFIED:20260312T133534Z
UID:10000139-1780358400-1780444799@vinsdeloire.pro
SUMMARY:Commission Technique
DESCRIPTION:
URL:https://vinsdeloire.pro/agenda-unique/commission-technique-itl-copy/
CATEGORIES:Professionnels,réunions des élus,Réunions institutionnelles,Sur invitation,Technique
ATTACH;FMTTYPE=image/png:https://vinsdeloire.pro/wp-content/uploads/2025/06/Logo-Interloire-Rectangle.png
END:VEVENT
BEGIN:VEVENT
DTSTART;TZID=Europe/Paris:20260602T140000
DTEND;TZID=Europe/Paris:20260602T170000
DTSTAMP:20260420T025044
CREATED:20251205T105041Z
LAST-MODIFIED:20251205T105107Z
UID:10000119-1780408800-1780419600@vinsdeloire.pro
SUMMARY:CRINAO Val de Loire-Centre
DESCRIPTION:
URL:https://vinsdeloire.pro/agenda-unique/crinao-val-de-loire-centre-copy-copy/
LOCATION:La Frémoire – Vertou (44)\, La Frémoire\, Vertou\, 44120\, France
CATEGORIES:Professionnels,réunions des élus,Réunions institutionnelles,Sur invitation
END:VEVENT
BEGIN:VEVENT
DTSTART;TZID=Europe/Paris:20260603T080000
DTEND;TZID=Europe/Paris:20260603T170000
DTSTAMP:20260420T025044
CREATED:20260217T141121Z
LAST-MODIFIED:20260217T141121Z
UID:10000133-1780473600-1780506000@vinsdeloire.pro
SUMMARY:Conseil de Bassin
DESCRIPTION:
URL:https://vinsdeloire.pro/agenda-unique/conseil-de-bassin/
CATEGORIES:Géographie France,Professionnels,réunions des élus,Réunions institutionnelles,Sur invitation
END:VEVENT
BEGIN:VEVENT
DTSTART;VALUE=DATE:20260613
DTEND;VALUE=DATE:20260615
DTSTAMP:20260420T025044
CREATED:20260202T090046Z
LAST-MODIFIED:20260311T134359Z
UID:10000126-1781308800-1781481599@vinsdeloire.pro
SUMMARY:Banquai des vins Rouges de Loire
DESCRIPTION:8 appellations de Rouges de Loire (Chinon\, Saint-Nicolas-de-Bourgueil\, Bourgueil\, Saumur-Champigny\, Saumur\, Saumur-Puy-Notre-Dame\, Anjou et Touraine) unissent leurs forces pour organiser un grand banquai à Paris\, sur le quai de la Tournelle\, les 13 et 14 juin prochains. 1500 participants sont attendus\, 750 par déjeuner. 100 vignerons par jour \nLe menu est signé par un chef ligérien Paul Delhommais (Miettes à Tours). Un plan de communication complet est déployé depuis début 2026 et s’intensifie en mars suite au lancement officiel en avant-première auprès de la presse et des influenceurs le 10 mars. \nSi vous souhaitez participer en tant que professionnels\, vous pouvez vous rapprocher de votre syndicat\, et relayer au maximum les contenus publiés sur les réseaux sociaux. \nLa billetterie est ouverte  \n 
URL:https://vinsdeloire.pro/agenda-unique/banquai-2026/
LOCATION:Paris\, France
CATEGORIES:Concours,Géographie France,Technique
ATTACH;FMTTYPE=image/png:https://vinsdeloire.pro/wp-content/uploads/2026/02/BANQUAI-ID-logofull-quad-fuchsia.png
END:VEVENT
BEGIN:VEVENT
DTSTART;VALUE=DATE:20260615
DTEND;VALUE=DATE:20260616
DTSTAMP:20260420T025044
CREATED:20260320T111503Z
LAST-MODIFIED:20260320T111503Z
UID:10000155-1781481600-1781567999@vinsdeloire.pro
SUMMARY:DANEMARK - Masterclass Vins de Loire
DESCRIPTION:Pour plus d’informations\, contacter Sophie Grosman: s.grosman@vinsdeloire.fr
URL:https://vinsdeloire.pro/agenda-unique/danemark-masterclass-vins-de-loire/
LOCATION:Danemark
CATEGORIES:Actions de promotion,Actions de promotion Export,Aux vignerons négociants courtiers,Géographie International,Professionnels
END:VEVENT
BEGIN:VEVENT
DTSTART;VALUE=DATE:20260615
DTEND;VALUE=DATE:20260616
DTSTAMP:20260420T025044
CREATED:20260320T111740Z
LAST-MODIFIED:20260320T111740Z
UID:10000156-1781481600-1781567999@vinsdeloire.pro
SUMMARY:DANEMARK - Dégustation professionnelle Vins de Loire
DESCRIPTION:Pour plus d’informations\, contacter Sophie Grosman : s.grosman@vinsdeloire.fr
URL:https://vinsdeloire.pro/agenda-unique/danemark-degustation-professionnelle-vins-de-loire/
LOCATION:Danemark
CATEGORIES:Actions de promotion,Actions de promotion Export,Aux vignerons négociants courtiers,Géographie International,Professionnels
END:VEVENT
BEGIN:VEVENT
DTSTART;VALUE=DATE:20260703
DTEND;VALUE=DATE:20260704
DTSTAMP:20260420T025044
CREATED:20260312T133817Z
LAST-MODIFIED:20260312T134000Z
UID:10000140-1783036800-1783123199@vinsdeloire.pro
SUMMARY:Conseil Technique de Bassin
DESCRIPTION:
URL:https://vinsdeloire.pro/agenda-unique/conseil-technique-de-bassin-copy/
LOCATION:France\, vignoble de Loire\, France
CATEGORIES:Géographie France,Professionnels,réunions des élus,Réunions institutionnelles,Sur invitation,Technique
END:VEVENT
BEGIN:VEVENT
DTSTART;VALUE=DATE:20260713
DTEND;VALUE=DATE:20260714
DTSTAMP:20260420T025044
CREATED:20260320T130431Z
LAST-MODIFIED:20260320T130431Z
UID:10000161-1783900800-1783987199@vinsdeloire.pro
SUMMARY:JAPON\, Nagoya - partenariat JSA -
DESCRIPTION:Pour plus d’informations\, contacter Sophie Grosman : s.grosman@vinsdeloire.fr
URL:https://vinsdeloire.pro/agenda-unique/japon-nagoya-partenariat-jsa/
LOCATION:Nagoya\, Japon
CATEGORIES:Actions de promotion,Actions de promotion Export,Aux vignerons négociants courtiers,Géographie International,Professionnels
END:VEVENT
BEGIN:VEVENT
DTSTART;TZID=Europe/Paris:20260716T140000
DTEND;TZID=Europe/Paris:20260716T170000
DTSTAMP:20260420T025044
CREATED:20251205T104623Z
LAST-MODIFIED:20251205T104646Z
UID:10000115-1784210400-1784221200@vinsdeloire.pro
SUMMARY:Conseil d'Orientation Stratégique (COS)
DESCRIPTION:
URL:https://vinsdeloire.pro/agenda-unique/conseil-dorientation-strategique-cos-5-copy-copy-copy-copy/
LOCATION:France\, vignoble de Loire\, France
CATEGORIES:Géographie France,Professionnels,réunions des élus,Réunions institutionnelles,Sur invitation
ATTACH;FMTTYPE=image/svg+xml:https://vinsdeloire.pro/wp-content/uploads/2024/01/INTERLOIRE-Logo-2024-CMJN.svg
END:VEVENT
BEGIN:VEVENT
DTSTART;VALUE=DATE:20260823
DTEND;VALUE=DATE:20260826
DTSTAMP:20260420T025044
CREATED:20260320T105602Z
LAST-MODIFIED:20260320T105602Z
UID:10000153-1787443200-1787702399@vinsdeloire.pro
SUMMARY:USA\, Dallas - TexSom
DESCRIPTION:Pour plus d’informations\, contacter Emma Fontaine : e.fontaine@vinsdeloire.fr
URL:https://vinsdeloire.pro/agenda-unique/usa-dallas-texsom-2/
LOCATION:Dallas\, Dallas\, USA
CATEGORIES:Actions de promotion,Actions de promotion Export,Aux vignerons négociants courtiers,Géographie International,Professionnels,USA
END:VEVENT
BEGIN:VEVENT
DTSTART;TZID=Europe/Paris:20260825T140000
DTEND;TZID=Europe/Paris:20260825T170000
DTSTAMP:20260420T025044
CREATED:20251205T104732Z
LAST-MODIFIED:20251205T104755Z
UID:10000116-1787666400-1787677200@vinsdeloire.pro
SUMMARY:Conseil d'Orientation Stratégique (COS)
DESCRIPTION:
URL:https://vinsdeloire.pro/agenda-unique/conseil-dorientation-strategique-cos-5-copy-copy-copy-copy-copy/
LOCATION:France\, vignoble de Loire\, France
CATEGORIES:Géographie France,Professionnels,réunions des élus,Réunions institutionnelles,Sur invitation
ATTACH;FMTTYPE=image/svg+xml:https://vinsdeloire.pro/wp-content/uploads/2024/01/INTERLOIRE-Logo-2024-CMJN.svg
END:VEVENT
BEGIN:VEVENT
DTSTART;TZID=Europe/Paris:20260825T140000
DTEND;TZID=Europe/Paris:20260825T170000
DTSTAMP:20260420T025044
CREATED:20251205T105208Z
LAST-MODIFIED:20251205T105235Z
UID:10000120-1787666400-1787677200@vinsdeloire.pro
SUMMARY:CRINAO Val de Loire-Centre
DESCRIPTION:
URL:https://vinsdeloire.pro/agenda-unique/crinao-val-de-loire-centre-copy-copy-copy/
LOCATION:La Frémoire – Vertou (44)\, La Frémoire\, Vertou\, 44120\, France
CATEGORIES:Professionnels,réunions des élus,Réunions institutionnelles,Sur invitation
END:VEVENT
BEGIN:VEVENT
DTSTART;VALUE=DATE:20260828
DTEND;VALUE=DATE:20260829
DTSTAMP:20260420T025044
CREATED:20260320T132435Z
LAST-MODIFIED:20260320T133529Z
UID:10000165-1787875200-1787961599@vinsdeloire.pro
SUMMARY:Allemagne - Concours Mundus Vini
DESCRIPTION:Pour plus d’informations\, contacter Emma Fontaine : e.fontaine@vinsdeloire.fr
URL:https://vinsdeloire.pro/agenda-unique/allemagne-concours-mundus-vini/
LOCATION:Allemagne\, Allemagne
CATEGORIES:Actions de promotion,Actions de promotion Export,Allemagne,Aux vignerons négociants courtiers,Géographie International,Professionnels
END:VEVENT
BEGIN:VEVENT
DTSTART;TZID=Europe/Paris:20260829T080000
DTEND;TZID=Europe/Paris:20260829T200000
DTSTAMP:20260420T025044
CREATED:20260317T111632Z
LAST-MODIFIED:20260317T112055Z
UID:10000141-1787990400-1788033600@vinsdeloire.pro
SUMMARY:Vignes\, Vins\, Randos
DESCRIPTION:
URL:https://vinsdeloire.pro/agenda-unique/vignes-vins-randos/
CATEGORIES:Actions de promotion France,Grand public,Oenotourisme,Tous
END:VEVENT
BEGIN:VEVENT
DTSTART;TZID=Europe/Paris:20260830T080000
DTEND;TZID=Europe/Paris:20260830T200000
DTSTAMP:20260420T025044
CREATED:20260317T112216Z
LAST-MODIFIED:20260317T112627Z
UID:10000142-1788076800-1788120000@vinsdeloire.pro
SUMMARY:
DESCRIPTION:
URL:https://vinsdeloire.pro/agenda-unique/35045/
CATEGORIES:Actions de promotion France,Géographie France,Grand public,Oenotourisme,Tous
END:VEVENT
END:VCALENDAR